BEGIN:VCALENDAR
VERSION:2.0
PRODID:-//Blog de Biolíbere Cooperativa de consumo ecológico - ECPv6.15.17//NONSGML v1.0//EN
CALSCALE:GREGORIAN
METHOD:PUBLISH
X-WR-CALNAME:Blog de Biolíbere Cooperativa de consumo ecológico
X-ORIGINAL-URL:https://socios.biolibere.es
X-WR-CALDESC:Eventos para Blog de Biolíbere Cooperativa de consumo ecológico
REFRESH-INTERVAL;VALUE=DURATION:PT1H
X-Robots-Tag:noindex
X-PUBLISHED-TTL:PT1H
BEGIN:VTIMEZONE
TZID:UTC
BEGIN:STANDARD
TZOFFSETFROM:+0000
TZOFFSETTO:+0000
TZNAME:UTC
DTSTART:20240101T000000
END:STANDARD
END:VTIMEZONE
BEGIN:VEVENT
DTSTART;TZID=UTC:20260123T183000
DTEND;TZID=UTC:20260123T193000
DTSTAMP:20260421T115556
CREATED:20260119T165222Z
LAST-MODIFIED:20260119T174414Z
UID:10002855-1769193000-1769196600@socios.biolibere.es
SUMMARY:Técnicas de relajación
DESCRIPTION:Seguro que te has hecho el propósito para 2026 de buscartiempo de calidad para ti misma/o\, aprender a relajarte\,conectar contigo misma/o\, con la tierra.En BIOLIBERE te lo ponemos fácil\, vente al TALLER DE TÉCNICASDE RELAJACIÓN y te llevarás a casa herramientas valiosas paraencontrar calma\, relajación\, conexión\, concentración.¡Planazo Biolíbere!(Si puedes\, tráete una pequeña manta\, esterilla o cojín para apoyar los pies) \n\n\n\nA cargo de Claudia.
URL:https://socios.biolibere.es/agenda/otecnicas-de-relajacion/
LOCATION:Biolíbere supermercado cooperativo\, Rosa de Luxemburgo\, 5\, Getafe\, Spain
CATEGORIES:Taller
ATTACH;FMTTYPE=image/jpeg:https://socios.biolibere.es/wp-content/uploads/2026/01/tecnicas-de-relajacion.jpg
ORGANIZER;CN="Biol%C3%ADbere  - Cooperativa de consumo":MAILTO:info@biolibere.es
END:VEVENT
BEGIN:VEVENT
DTSTART;TZID=UTC:20251220T130000
DTEND;TZID=UTC:20251220T160000
DTSTAMP:20260421T115556
CREATED:20251205T100518Z
LAST-MODIFIED:20251205T103035Z
UID:10002853-1766235600-1766246400@socios.biolibere.es
SUMMARY:Día del Cooperativista de Biolíbere
DESCRIPTION:Queridos socios y socias de Biolíbere\, queremos invitaros a celebrar juntos el Día del Cooperativista de Biolíbere. Es un momento especial para encontrarnos\, compartir experiencias y reforzar el espíritu de nuestra cooperativa. Vuestra participación es clave para hacer de este día una jornada inolvidable y llena de buena energía. \n\n\n\nLa celebración tendrá lugar el sábado 20 de diciembre a las 13:00 horas. Empezaremos con un agradable encuentro acompañado de un aperitivo para abrir boca. Además\, hemos preparado una pequeña sorpresa para todos los asistentes. ¡No os la perdáis! \n\n\n\nPara hacer el encuentro aún más especial\, os animamos a traer «comida de traje»\, es decir\, esos deliciosos platos caseros que tanto disfrutáis preparar. Así\, entre todos\, crearemos un banquete cooperativo.
URL:https://socios.biolibere.es/agenda/dia-del-cooperativista-de-biolibere/
LOCATION:Biolíbere supermercado cooperativo\, Rosa de Luxemburgo\, 5\, Getafe\, Spain
CATEGORIES:Encuentro
ATTACH;FMTTYPE=image/jpeg:https://socios.biolibere.es/wp-content/uploads/2025/12/fiesta-socios-verano-25.jpg
ORGANIZER;CN="Biol%C3%ADbere  - Cooperativa de consumo":MAILTO:info@biolibere.es
END:VEVENT
BEGIN:VEVENT
DTSTART;TZID=UTC:20251212T180000
DTEND;TZID=UTC:20251212T190000
DTSTAMP:20260421T115556
CREATED:20251209T122121Z
LAST-MODIFIED:20251209T122408Z
UID:10002854-1765562400-1765566000@socios.biolibere.es
SUMMARY:Cata de consumo sostenible de chocolate
DESCRIPTION:«Carlos Ayala Hidalgo\, un ecuatoriano apasionado defensor del consumo sostenible de chocolate\, ha establecido su hogar en Bristol desde 2018. Cuenta con dos maestrías en Desarrollo Rural de Bélgica y China\, y se certificó como Chocolatero\, tras obtener un certificado de la Escuela de Negocios del Cacao Ecuatoriano ‘Papá Cacao’. \n\n\n\nEn 2021\, Carlos fundó Vicolo Sei Chocolates\, especializada en sesiones inmersivas e improvisadas que brindan información de alta calidad y oportunidades para la interacción y la exploración sensorial de chocolate hecho con cacao fino de origen único»
URL:https://socios.biolibere.es/agenda/cata-de-consumo-sostenible-de-chocolate/
LOCATION:Biolíbere supermercado cooperativo\, Rosa de Luxemburgo\, 5\, Getafe\, Spain
ATTACH;FMTTYPE=image/png:https://socios.biolibere.es/wp-content/uploads/2025/12/Cata-de-chocolate-en-bioloibere.png
ORGANIZER;CN="Biol%C3%ADbere  - Cooperativa de consumo":MAILTO:info@biolibere.es
END:VEVENT
BEGIN:VEVENT
DTSTART;TZID=UTC:20251029T180000
DTEND;TZID=UTC:20251029T190000
DTSTAMP:20260421T115556
CREATED:20251015T115050Z
LAST-MODIFIED:20251019T061207Z
UID:10002847-1761760800-1761764400@socios.biolibere.es
SUMMARY:Cooperativa La Corriente nos informa
DESCRIPTION:
URL:https://socios.biolibere.es/agenda/cooperativa-la-corriente-nos-informa/
LOCATION:Biolíbere supermercado cooperativo\, Rosa de Luxemburgo\, 5\, Getafe\, Spain
CATEGORIES:Sesión
ATTACH;FMTTYPE=image/jpeg:https://socios.biolibere.es/wp-content/uploads/2025/10/lacorriente.jpg
ORGANIZER;CN="Biol%C3%ADbere  - Cooperativa de consumo":MAILTO:info@biolibere.es
END:VEVENT
BEGIN:VEVENT
DTSTART;TZID=UTC:20251018T120000
DTEND;TZID=UTC:20251018T133000
DTSTAMP:20260421T115556
CREATED:20251006T084203Z
LAST-MODIFIED:20251006T091759Z
UID:10002845-1760788800-1760794200@socios.biolibere.es
SUMMARY:Charla informativa: Nervio vago y estrés
DESCRIPTION:Interesantísima charla sobre el «Nervio Vago y el Estrés»\, cómo afecta a las funciones vitales y qué podemos hacer para minimizar sus impactos negativos\, controlarlo\, reducirlo. \nLa charla estará guiada por nuestra experta en nutrición\, Elena del Valle\, gran divulgadora y comunicadora\, sus charlas son ya un referente y un imprescindible en Biolíbere.
URL:https://socios.biolibere.es/agenda/nervio-vago-y-estres/
LOCATION:Biolíbere supermercado cooperativo\, Rosa de Luxemburgo\, 5\, Getafe\, Spain
CATEGORIES:Charla
ATTACH;FMTTYPE=image/jpeg:https://socios.biolibere.es/wp-content/uploads/2025/10/IMG-20251002-WA0002.jpg
ORGANIZER;CN="Biol%C3%ADbere  - Cooperativa de consumo":MAILTO:info@biolibere.es
END:VEVENT
BEGIN:VEVENT
DTSTART;TZID=UTC:20250628T110000
DTEND;TZID=UTC:20250628T140000
DTSTAMP:20260421T115556
CREATED:20250625T082642Z
LAST-MODIFIED:20250625T082642Z
UID:10002839-1751108400-1751119200@socios.biolibere.es
SUMMARY:Jornada de puertas abiertas de Biolíbere
DESCRIPTION:El sábado 28 de junio abrimos las puertas de Biolíbere para compartir nuestro proyecto contigo. \n  \nMás que una simple venta\, será una mañana para conocernos\, para entender cómo funciona un supermercado cooperativo\, agroecológico y responsable… y para vivirlo en primera persona. \n  \nCelebramos esta jornada en el marco de las fiestas del barrio de Getafe Norte\, como parte de nuestro compromiso con la vida comunitaria\, el consumo consciente y la construcción de alternativas reales desde lo cotidiano. \n  \nNos acompañarán más de 20 proyectos agroecológicos: productores y elaboradores que llenan nuestras estanterías de sentido. Algunos estarán en persona\, compartiendo sus productos e historias. Otros\, a través de generosas degustaciones. Todas ellas forman parte del corazón de Biolíbere\, apostando por lo cercano\, lo justo y lo transparente. \n  \nDurante la jornada podrás disfrutar de: \n  \n– Degustaciones de producto y tapas \n– Nuestra cerveza artesana Biolibeer\, elaborada en colaboración con la cooperativa Cervezas Bailandera \n– Presentación de proyectos de economía social y agroecología \n– Taller de reparación de bicicletas \n– Actividades informativas y lúdicas \n– Bingo musical (13:00 h) \n– Sorteo de dos cestas de cosmética natural (13:30 h) \n  \nAdemás\, todas las compras que se realicen ese día tendrán un 7% de descuento\, el mismo que disfrutan nuestras socias. \n  \nTe esperamos en la calle Rosa de Luxemburgo\, 5 (Getafe Norte)\, de 11:00 a 14:00 h. \n  \nVen a conocer Biolíbere. Participa\, pregunta\, saborea\, comparte. \nPorque abrir las puertas también es abrir posibilidades.
URL:https://socios.biolibere.es/agenda/jornada-de-puertas-abiertas-de-biolibere/
LOCATION:Biolíbere supermercado cooperativo\, Rosa de Luxemburgo\, 5\, Getafe\, Spain
CATEGORIES:Jornada
ATTACH;FMTTYPE=image/jpeg:https://socios.biolibere.es/wp-content/uploads/2025/06/43a98859-09d6-4f13-8841-cd25f83ae8e3.jpg
END:VEVENT
END:VCALENDAR